BEGIN:VCALENDAR
VERSION:2.0
PRODID:-//eventon.com NONSGML v1.0//EN
CALSCALE:GREGORIAN
METHOD:PUBLISH
BEGIN:VEVENT
UID:69e73d419c934
DTSTAMP:20260421T090257Z
DTSTART:20180125
DTEND:20180126
LOCATION:The White Horse West Village\,  Ballincollig\,  Co. Cork
SUMMARY:Ballincollig Winter Music Festival 2018
DESCRIPTION:The ninth Ballincollig Winter Music Festival brings together a
  fantastic mix of artists and events mainly centred around the festival hub
  at The White Horse. The Festival kicks off on Thursday\,  January 25th wil
 l be the amazing Wexford musician\,  Wallis Bird. Supporting her will be Ca
 nadian Folk musician Kaia Kater. Also[..]\nhttps://www.theirishplace.com/ev
 ents/ballincollig-winter-music-festival-2018/
URL:https://www.theirishplace.com/events/ballincollig-winter-music-festival-2018/
END:VEVENT
END:VCALENDAR