BEGIN:VCALENDAR
VERSION:2.0
PRODID:-//eventon.com NONSGML v1.0//EN
CALSCALE:GREGORIAN
METHOD:PUBLISH
BEGIN:VEVENT
UID:69e5dcabb4084
DTSTAMP:20260420T075835Z
DTSTART:20180124
DTEND:20180125
LOCATION:Various locations around Dublin Templebar\,  Dublin\,  Ireland
SUMMARY:Temple Bar TradFest 2018
DESCRIPTION:TradFest 2018 is Ireland&#8217;s largest festival of trad and f
 olk music and beyond takes place from Wednesday 24th to Sunday 28th of Janu
 ary. A wealth of talent to showcase including: Judy Collins\,  Alan Stivel
 l\,  Martha Wainwright; Big Country; Shirley Collins; Steve Wickham\,  Wal
 lis Bird and The 4 of Us. For trad fans\, [..]\nhttps://www.theirishplace.c
 om/events/temple-bar-tradfest-2018/
URL:https://www.theirishplace.com/events/temple-bar-tradfest-2018/
END:VEVENT
END:VCALENDAR