BEGIN:VCALENDAR
VERSION:2.0
PRODID:-//eventon.com NONSGML v1.0//EN
CALSCALE:GREGORIAN
METHOD:PUBLISH
BEGIN:VEVENT
UID:69e7392cc1ce5
DTSTAMP:20260421T084532Z
DTSTART:20180504
DTEND:20180505
LOCATION:Carna Connemara\,  Co Galway
SUMMARY:Féile Joe Éinniú/Joe Heaney Festival
DESCRIPTION:The Joe Heaney Festival of Traditional Singing takes place over
  the May Bank Holiday weekend in Carna\,  Connemara. This festival commemor
 ates the life and musical legacy of the renowned ‘Sean Nós’ and folk s
 inger from Carna\,  who died in Seattle in 1984. The festival has been held
  annually since its[..]\nhttps://www.theirishplace.com/events/feile-joe-ein
 niu-joe-heaney-festival/
URL:https://www.theirishplace.com/events/feile-joe-einniu-joe-heaney-festival/
END:VEVENT
END:VCALENDAR