BEGIN:VCALENDAR
VERSION:2.0
PRODID:-//eventon.com NONSGML v1.0//EN
CALSCALE:GREGORIAN
METHOD:PUBLISH
BEGIN:VEVENT
UID:69e73d923ddd8
DTSTAMP:20260421T090418Z
DTSTART:20190127T090000Z
DTEND:20190210T235900Z
LOCATION:Cultúrlann Uí Chanáin 37 Great James Street\,   Derry\,  BT48 7DF\,  Northern Ireland
SUMMARY:IMBOLC International Music Festival 2019
DESCRIPTION:In the few short years of its existence IMBOLC International Mu
 sic Festival has grown to become one of Northern Ireland’s leading folk a
 nd world music festivals. Whilst still firmly rooted in the musical culture
 s of this island\,  the festival has grown in depth and breadth and now enc
 ompasses music genres[..]\nhttps://www.theirishplace.com/events/imbolc-inte
 rnational-music-festival-2019/
URL:https://www.theirishplace.com/events/imbolc-international-music-festival-2019/
END:VEVENT
END:VCALENDAR