BEGIN:VCALENDAR
VERSION:2.0
PRODID:-//eventon.com NONSGML v1.0//EN
CALSCALE:GREGORIAN
METHOD:PUBLISH
BEGIN:VEVENT
UID:69e776556dadb
DTSTAMP:20260421T130629Z
DTSTART:20190916T090000Z
DTEND:20190922T235900Z
LOCATION:Clonakilty Clonakilty\,  West Cork\,  Ireland
SUMMARY:Clonakilty International Guitar Festival 2019
DESCRIPTION:A musicians festival\,  the Clonakilty International Guitar Fes
 tival is a celebration of the guitar. Clonakilty is the town that The Hendr
 ix Experience’s Noel Redding chose to call home for 27 years and the lega
 cy of Noel’s impact on his adopted home continues today in the venues and
  talent that he[..]\nhttps://www.theirishplace.com/events/clonakilty-intern
 ational-guitar-festival-2019/
URL:https://www.theirishplace.com/events/clonakilty-international-guitar-festival-2019/
END:VEVENT
END:VCALENDAR