BEGIN:VCALENDAR
VERSION:2.0
PRODID:-//eventon.com NONSGML v1.0//EN
CALSCALE:GREGORIAN
METHOD:PUBLISH
BEGIN:VEVENT
UID:69e5dec26a0e0
DTSTAMP:20260420T080730Z
DTSTART:20190612T200000Z
DTEND:20190616T235900Z
LOCATION:Lismore Lismore Heritage Centre\,  Lismore\,  Co. Waterford\,  Ireland
SUMMARY:Immrama - Lismore Festival of Travel Writing
DESCRIPTION:Immrama is held in Lismore\,  Co. Waterford\,  Ireland\,  on a
  weekend in June each year since 2003. Immrama has been dedicated to the ar
 t of Travel Writing\,  Good Music and Fine Entertainment since its inceptio
 n. &#8216;Immrama&#8217; is an early Irish word for a &#8216;voyage tale&#8
 217; and takes place from June 12th[..]\nhttps://www.theirishplace.com/even
 ts/immrama-lismore-festival-of-travel-writing/
URL:https://www.theirishplace.com/events/immrama-lismore-festival-of-travel-writing/
END:VEVENT
END:VCALENDAR