BEGIN:VCALENDAR
VERSION:2.0
PRODID:-//eventon.com NONSGML v1.0//EN
CALSCALE:GREGORIAN
METHOD:PUBLISH
BEGIN:VEVENT
UID:69e73d75a248a
DTSTAMP:20260421T090349Z
DTSTART:20190823T090000Z
DTEND:20190825T115900Z
LOCATION:Graiguenamanagh Graiguenamanagh\,  Co. Kilkenny\,  Ireland
SUMMARY:Graiguenamanagh Town of Books Festival
DESCRIPTION:The Graiguenamanagh Town of Books Festival is now in its 16th y
 ear. From its origins as a small weekend event promoted on an experimental 
 basis for one year\,  it has over the years grown into a fully fledged fest
 ival that features art\,  music\,  food and crafts\,  and a whole host[..]\
 nhttps://www.theirishplace.com/events/graiguenamanagh-town-of-books-festiva
 l/
URL:https://www.theirishplace.com/events/graiguenamanagh-town-of-books-festival/
END:VEVENT
END:VCALENDAR